BEGIN:VCALENDAR
VERSION:2.0
PRODID:-//OVS48 - ECPv5.16.1.1//NONSGML v1.0//EN
CALSCALE:GREGORIAN
METHOD:PUBLISH
X-WR-CALNAME:OVS48
X-ORIGINAL-URL:https://www.ovs48.de
X-WR-CALDESC:Veranstaltungen für OVS48
REFRESH-INTERVAL;VALUE=DURATION:PT1H
X-Robots-Tag:noindex
X-PUBLISHED-TTL:PT1H
BEGIN:VTIMEZONE
TZID:Europe/Berlin
BEGIN:DAYLIGHT
TZOFFSETFROM:+0100
TZOFFSETTO:+0200
TZNAME:CEST
DTSTART:20250330T010000
END:DAYLIGHT
BEGIN:STANDARD
TZOFFSETFROM:+0200
TZOFFSETTO:+0100
TZNAME:CET
DTSTART:20251026T010000
END:STANDARD
BEGIN:DAYLIGHT
TZOFFSETFROM:+0100
TZOFFSETTO:+0200
TZNAME:CEST
DTSTART:20260329T010000
END:DAYLIGHT
BEGIN:STANDARD
TZOFFSETFROM:+0200
TZOFFSETTO:+0100
TZNAME:CET
DTSTART:20261025T010000
END:STANDARD
END:VTIMEZONE
BEGIN:VEVENT
DTSTART;TZID=Europe/Berlin:20260419T190000
DTEND;TZID=Europe/Berlin:20260419T193000
DTSTAMP:20260419T193658
CREATED:20260403T080948Z
LAST-MODIFIED:20260403T080948Z
UID:2098-1776625200-1776627000@www.ovs48.de
SUMMARY:Sonntagsrunde mit Martin DH1DF
DESCRIPTION:Die Sonntagsrunde des OVS48 mit Martin DH1DF über unser Relais DB0ANA. Alle Interessenten sind herzlich eingeladen.
URL:https://www.ovs48.de/event/sonntagsrunde-mit-martin-dh1df-68/
LOCATION:DB0ANA
END:VEVENT
BEGIN:VEVENT
DTSTART;TZID=Europe/Berlin:20260412T190000
DTEND;TZID=Europe/Berlin:20260412T193000
DTSTAMP:20260419T193658
CREATED:20260403T080849Z
LAST-MODIFIED:20260403T080849Z
UID:2096-1776020400-1776022200@www.ovs48.de
SUMMARY:Sonntagsrunde mit Frank DM5KK
DESCRIPTION:Die Sonntagsrunde des OVS48 mit Frank DM5KK über unser Relais DB0ANA. Alle Interessenten sind herzlich eingeladen.
URL:https://www.ovs48.de/event/sonntagsrunde-mit-frank-dm5kk-66/
LOCATION:DB0ANA
END:VEVENT
BEGIN:VEVENT
DTSTART;TZID=Europe/Berlin:20260408T190000
DTEND;TZID=Europe/Berlin:20260408T200000
DTSTAMP:20260419T193658
CREATED:20260103T113716Z
LAST-MODIFIED:20260103T113716Z
UID:2055-1775674800-1775678400@www.ovs48.de
SUMMARY:Deutscher Amateur-Radio-Club OV-Abend
DESCRIPTION:Wieder im Huthaus Geyer und am Mittwoch.  Alle Interessenten sind herzlich eingeladen. Offizieller Beginn ist 19:00\, der Tisch ist ab 18:00 reserviert
URL:https://www.ovs48.de/event/deutscher-amateur-radio-club-ov-abend-37/
LOCATION:Gaststätte Huthaus Geyer\, Bingeweg 21\, Geyer\, 09468\, Deutschland
END:VEVENT
BEGIN:VEVENT
DTSTART;TZID=Europe/Berlin:20260405T190000
DTEND;TZID=Europe/Berlin:20260405T193000
DTSTAMP:20260419T193658
CREATED:20260202T104813Z
LAST-MODIFIED:20260202T105328Z
UID:2074-1775415600-1775417400@www.ovs48.de
SUMMARY:Sonntagsrunde mit Lukas DH2LM
DESCRIPTION:Die Sonntagsrunde des OVS48 mit Lukas DH2LM über unser Relais DB0ANA. Alle Interessenten sind herzlich eingeladen.
URL:https://www.ovs48.de/event/sonntagsrunde-mit-lukas-dh2lm-12/
LOCATION:DB0ANA
END:VEVENT
BEGIN:VEVENT
DTSTART;TZID=Europe/Berlin:20260329T190000
DTEND;TZID=Europe/Berlin:20260329T193000
DTSTAMP:20260419T193658
CREATED:20260202T105212Z
LAST-MODIFIED:20260315T175855Z
UID:2079-1774810800-1774812600@www.ovs48.de
SUMMARY:Sonntagsrunde mit Frank DM5KK
DESCRIPTION:Die Sonntagsrunde des OVS48 mit Frank DM5KK über unser Relais DB0ANA. Alle Interessenten sind herzlich eingeladen.
URL:https://www.ovs48.de/event/sonntagsrunde-mit-frank-dm5kk-65/
LOCATION:DB0ANA
END:VEVENT
BEGIN:VEVENT
DTSTART;TZID=Europe/Berlin:20260322T190000
DTEND;TZID=Europe/Berlin:20260322T193000
DTSTAMP:20260419T193658
CREATED:20260202T105251Z
LAST-MODIFIED:20260315T175919Z
UID:2080-1774206000-1774207800@www.ovs48.de
SUMMARY:Sonntagsrunde mit Martin DH1DF
DESCRIPTION:Die Sonntagsrunde des OVS48 mit Martin DH1DF über unser Relais DB0ANA. Alle Interessenten sind herzlich eingeladen.
URL:https://www.ovs48.de/event/sonntagsrunde-mit-martin-dh1df-67/
LOCATION:DB0ANA
END:VEVENT
BEGIN:VEVENT
DTSTART;TZID=Europe/Berlin:20260318T190000
DTEND;TZID=Europe/Berlin:20260318T200000
DTSTAMP:20260419T193658
CREATED:20260103T113633Z
LAST-MODIFIED:20260304T185751Z
UID:2053-1773860400-1773864000@www.ovs48.de
SUMMARY:Deutscher Amateur-Radio-Club OV-Abend / Hauptversammlung !!! Achtung: Terminänderung !!!
DESCRIPTION:Wieder im Huthaus Geyer und am Mittwoch. Diesmal mit Hauptversammlung.  Offizieller Beginn ist 19:00\, der Tisch ist ab 18:00 reserviert. Aufgrund Terminprobleme eine Woche später als üblich
URL:https://www.ovs48.de/event/deutscher-amateur-radio-club-ov-abend-hauptversammlung-2/
LOCATION:Gaststätte Huthaus Geyer\, Bingeweg 21\, Geyer\, 09468\, Deutschland
END:VEVENT
BEGIN:VEVENT
DTSTART;TZID=Europe/Berlin:20260315T190000
DTEND;TZID=Europe/Berlin:20260315T193000
DTSTAMP:20260419T193658
CREATED:20260202T105143Z
LAST-MODIFIED:20260202T105143Z
UID:2078-1773601200-1773603000@www.ovs48.de
SUMMARY:Sonntagsrunde mit Lukas DH2LM
DESCRIPTION:Die Sonntagsrunde des OVS48 mit Lukas DH2LM über unser Relais DB0ANA. Alle Interessenten sind herzlich eingeladen.
URL:https://www.ovs48.de/event/sonntagsrunde-mit-lukas-dh2lm-13/
LOCATION:DB0ANA
END:VEVENT
BEGIN:VEVENT
DTSTART;TZID=Europe/Berlin:20260308T190000
DTEND;TZID=Europe/Berlin:20260308T193000
DTSTAMP:20260419T193658
CREATED:20260202T104746Z
LAST-MODIFIED:20260202T105040Z
UID:2073-1772996400-1772998200@www.ovs48.de
SUMMARY:Sonntagsrunde mit Martin DH1DF
DESCRIPTION:Die Sonntagsrunde des OVS48 mit Martin DH1DF über unser Relais DB0ANA. Alle Interessenten sind herzlich eingeladen.
URL:https://www.ovs48.de/event/sonntagsrunde-mit-martin-dh1df-66/
LOCATION:DB0ANA
END:VEVENT
BEGIN:VEVENT
DTSTART;TZID=Europe/Berlin:20260301T190000
DTEND;TZID=Europe/Berlin:20260301T193000
DTSTAMP:20260419T193658
CREATED:20260202T105003Z
LAST-MODIFIED:20260202T105003Z
UID:2072-1772391600-1772393400@www.ovs48.de
SUMMARY:Sonntagsrunde mit Frank DM5KK
DESCRIPTION:Die Sonntagsrunde des OVS48 mit Frank DM5KK über unser Relais DB0ANA. Alle Interessenten sind herzlich eingeladen.
URL:https://www.ovs48.de/event/sonntagsrunde-mit-frank-dm5kk-64/
LOCATION:DB0ANA
END:VEVENT
BEGIN:VEVENT
DTSTART;TZID=Europe/Berlin:20260222T190000
DTEND;TZID=Europe/Berlin:20260222T193000
DTSTAMP:20260419T193658
CREATED:20260103T112907Z
LAST-MODIFIED:20260103T112907Z
UID:2040-1771786800-1771788600@www.ovs48.de
SUMMARY:Sonntagsrunde mit Lukas DH2LM
DESCRIPTION:Die Sonntagsrunde des OVS48 mit Lukas DH2LM über unser Relais DB0ANA. Alle Interessenten sind herzlich eingeladen.
URL:https://www.ovs48.de/event/sonntagsrunde-mit-lukas-dh2lm-11/
LOCATION:DB0ANA
END:VEVENT
BEGIN:VEVENT
DTSTART;TZID=Europe/Berlin:20260215T190000
DTEND;TZID=Europe/Berlin:20260215T193000
DTSTAMP:20260419T193658
CREATED:20260103T112850Z
LAST-MODIFIED:20260103T112850Z
UID:2039-1771182000-1771183800@www.ovs48.de
SUMMARY:Sonntagsrunde mit Martin DH1DF
DESCRIPTION:Die Sonntagsrunde des OVS48 mit Martin DH1DF über unser Relais DB0ANA. Alle Interessenten sind herzlich eingeladen.
URL:https://www.ovs48.de/event/sonntagsrunde-mit-martin-dh1df-65/
LOCATION:DB0ANA
END:VEVENT
BEGIN:VEVENT
DTSTART;TZID=Europe/Berlin:20260211T190000
DTEND;TZID=Europe/Berlin:20260211T200000
DTSTAMP:20260419T193658
CREATED:20260103T113535Z
LAST-MODIFIED:20260103T113535Z
UID:2050-1770836400-1770840000@www.ovs48.de
SUMMARY:Deutscher Amateur-Radio-Club OV-Abend
DESCRIPTION:Wieder im Huthaus Geyer und am Mittwoch.  Alle Interessenten sind herzlich eingeladen. Offizieller Beginn ist 19:00\, der Tisch ist ab 18:00 reserviert
URL:https://www.ovs48.de/event/deutscher-amateur-radio-club-ov-abend-36/
LOCATION:Gaststätte Huthaus Geyer\, Bingeweg 21\, Geyer\, 09468\, Deutschland
END:VEVENT
BEGIN:VEVENT
DTSTART;TZID=Europe/Berlin:20260208T190000
DTEND;TZID=Europe/Berlin:20260208T193000
DTSTAMP:20260419T193658
CREATED:20260103T112825Z
LAST-MODIFIED:20260103T112825Z
UID:2038-1770577200-1770579000@www.ovs48.de
SUMMARY:Sonntagsrunde mit Frank DM5KK
DESCRIPTION:Die Sonntagsrunde des OVS48 mit Frank DM5KK über unser Relais DB0ANA. Alle Interessenten sind herzlich eingeladen.
URL:https://www.ovs48.de/event/sonntagsrunde-mit-frank-dm5kk-63/
LOCATION:DB0ANA
END:VEVENT
BEGIN:VEVENT
DTSTART;TZID=Europe/Berlin:20260201T190000
DTEND;TZID=Europe/Berlin:20260201T193000
DTSTAMP:20260419T193658
CREATED:20251219T220123Z
LAST-MODIFIED:20251219T220123Z
UID:2025-1769972400-1769974200@www.ovs48.de
SUMMARY:Sonntagsrunde mit Lukas DH2LM
DESCRIPTION:Die Sonntagsrunde des OVS48 mit Lukas DH2LM über unser Relais DB0ANA. Alle Interessenten sind herzlich eingeladen.
URL:https://www.ovs48.de/event/sonntagsrunde-mit-lukas-dh2lm-10/
LOCATION:DB0ANA
END:VEVENT
BEGIN:VEVENT
DTSTART;TZID=Europe/Berlin:20260125T190000
DTEND;TZID=Europe/Berlin:20260125T193000
DTSTAMP:20260419T193658
CREATED:20251219T220054Z
LAST-MODIFIED:20251219T220054Z
UID:2026-1769367600-1769369400@www.ovs48.de
SUMMARY:Sonntagsrunde mit Martin DH1DF
DESCRIPTION:Die Sonntagsrunde des OVS48 mit Martin DH1DF über unser Relais DB0ANA. Alle Interessenten sind herzlich eingeladen.
URL:https://www.ovs48.de/event/sonntagsrunde-mit-martin-dh1df-64/
LOCATION:DB0ANA
END:VEVENT
BEGIN:VEVENT
DTSTART;TZID=Europe/Berlin:20260118T190000
DTEND;TZID=Europe/Berlin:20260118T193000
DTSTAMP:20260419T193658
CREATED:20251219T220017Z
LAST-MODIFIED:20251219T220017Z
UID:2027-1768762800-1768764600@www.ovs48.de
SUMMARY:Sonntagsrunde mit Frank DM5KK
DESCRIPTION:Die Sonntagsrunde des OVS48 mit Frank DM5KK über unser Relais DB0ANA. Alle Interessenten sind herzlich eingeladen.
URL:https://www.ovs48.de/event/sonntagsrunde-mit-frank-dm5kk-62/
LOCATION:DB0ANA
END:VEVENT
BEGIN:VEVENT
DTSTART;TZID=Europe/Berlin:20260114T180000
DTEND;TZID=Europe/Berlin:20260114T220000
DTSTAMP:20260419T193658
CREATED:20251130T172808Z
LAST-MODIFIED:20251130T172808Z
UID:2018-1768413600-1768428000@www.ovs48.de
SUMMARY:Neujahrs-Feier
DESCRIPTION:Mit Bowling und Abendessen. Teilnehmer-Abfrage per Mail erfolgt noch. \nSpeisekarte gibt es unter https://www.menu-touch.fr/resto/webmenu/v1.0/qrcode.php?id=7040
URL:https://www.ovs48.de/event/neujahrs-feier-3/
LOCATION:Bowl & Beauty Schlettau\, Bahnhofstr.7\, Schlettau\, 09487
END:VEVENT
BEGIN:VEVENT
DTSTART;TZID=Europe/Berlin:20260111T190000
DTEND;TZID=Europe/Berlin:20260111T193000
DTSTAMP:20260419T193658
CREATED:20251130T172845Z
LAST-MODIFIED:20251130T172845Z
UID:2020-1768158000-1768159800@www.ovs48.de
SUMMARY:Sonntagsrunde mit Lukas DH2LM
DESCRIPTION:Die Sonntagsrunde des OVS48 mit Lukas DH2LM über unser Relais DB0ANA. Alle Interessenten sind herzlich eingeladen.
URL:https://www.ovs48.de/event/sonntagsrunde-mit-lukas-dh2lm-9/
LOCATION:DB0ANA
END:VEVENT
BEGIN:VEVENT
DTSTART;TZID=Europe/Berlin:20260104T190000
DTEND;TZID=Europe/Berlin:20260104T193000
DTSTAMP:20260419T193658
CREATED:20251116T175552Z
LAST-MODIFIED:20251219T215807Z
UID:2012-1767553200-1767555000@www.ovs48.de
SUMMARY:Sonntagsrunde mit Frank DM5KK
DESCRIPTION:Die Sonntagsrunde des OVS48 mit Frank DM5KK über unser Relais DB0ANA. Alle Interessenten sind herzlich eingeladen.
URL:https://www.ovs48.de/event/sonntagsrunde-mit-frank-dm5kk-61/
LOCATION:DB0ANA
END:VEVENT
BEGIN:VEVENT
DTSTART;TZID=Europe/Berlin:20251228T190000
DTEND;TZID=Europe/Berlin:20251228T193000
DTSTAMP:20260419T193658
CREATED:20251116T175610Z
LAST-MODIFIED:20251219T215849Z
UID:2013-1766948400-1766950200@www.ovs48.de
SUMMARY:Sonntagsrunde mit Martin DH1DF
DESCRIPTION:Die Sonntagsrunde des OVS48 mit Martin DH1DF über unser Relais DB0ANA. Alle Interessenten sind herzlich eingeladen.
URL:https://www.ovs48.de/event/sonntagsrunde-mit-martin-dh1df-63/
LOCATION:DB0ANA
END:VEVENT
BEGIN:VEVENT
DTSTART;TZID=Europe/Berlin:20251221T190000
DTEND;TZID=Europe/Berlin:20251221T193000
DTSTAMP:20260419T193658
CREATED:20251116T175529Z
LAST-MODIFIED:20251116T175529Z
UID:2011-1766343600-1766345400@www.ovs48.de
SUMMARY:Sonntagsrunde mit Lukas DH2LM
DESCRIPTION:Die Sonntagsrunde des OVS48 mit Lukas DH2LM über unser Relais DB0ANA. Alle Interessenten sind herzlich eingeladen.
URL:https://www.ovs48.de/event/sonntagsrunde-mit-lukas-dh2lm-8/
LOCATION:DB0ANA
END:VEVENT
BEGIN:VEVENT
DTSTART;TZID=Europe/Berlin:20251214T190000
DTEND;TZID=Europe/Berlin:20251214T193000
DTSTAMP:20260419T193658
CREATED:20251116T175413Z
LAST-MODIFIED:20251116T175413Z
UID:2007-1765738800-1765740600@www.ovs48.de
SUMMARY:Sonntagsrunde mit Martin DH1DF
DESCRIPTION:Die Sonntagsrunde des OVS48 mit Martin DH1DF über unser Relais DB0ANA. Alle Interessenten sind herzlich eingeladen.
URL:https://www.ovs48.de/event/sonntagsrunde-mit-martin-dh1df-62/
LOCATION:DB0ANA
END:VEVENT
BEGIN:VEVENT
DTSTART;TZID=Europe/Berlin:20251207T190000
DTEND;TZID=Europe/Berlin:20251207T193000
DTSTAMP:20260419T193658
CREATED:20251116T175350Z
LAST-MODIFIED:20251116T175350Z
UID:2006-1765134000-1765135800@www.ovs48.de
SUMMARY:Sonntagsrunde mit Frank DM5KK
DESCRIPTION:Die Sonntagsrunde des OVS48 mit Frank DM5KK über unser Relais DB0ANA. Alle Interessenten sind herzlich eingeladen.
URL:https://www.ovs48.de/event/sonntagsrunde-mit-frank-dm5kk-60/
LOCATION:DB0ANA
END:VEVENT
BEGIN:VEVENT
DTSTART;TZID=Europe/Berlin:20251130T190000
DTEND;TZID=Europe/Berlin:20251130T193000
DTSTAMP:20260419T193658
CREATED:20251116T175325Z
LAST-MODIFIED:20251116T175325Z
UID:2005-1764529200-1764531000@www.ovs48.de
SUMMARY:Sonntagsrunde mit Lukas DH2LM
DESCRIPTION:Die Sonntagsrunde des OVS48 mit Lukas DH2LM über unser Relais DB0ANA. Alle Interessenten sind herzlich eingeladen.
URL:https://www.ovs48.de/event/sonntagsrunde-mit-lukas-dh2lm-7/
LOCATION:DB0ANA
END:VEVENT
BEGIN:VEVENT
DTSTART;TZID=Europe/Berlin:20251123T190000
DTEND;TZID=Europe/Berlin:20251123T193000
DTSTAMP:20260419T193658
CREATED:20251004T054338Z
LAST-MODIFIED:20251004T054338Z
UID:1973-1763924400-1763926200@www.ovs48.de
SUMMARY:Sonntagsrunde mit Martin DH1DF
DESCRIPTION:Die Sonntagsrunde des OVS48 mit Martin DH1DF über unser Relais DB0ANA. Alle Interessenten sind herzlich eingeladen.
URL:https://www.ovs48.de/event/sonntagsrunde-mit-martin-dh1df-61/
LOCATION:DB0ANA
END:VEVENT
BEGIN:VEVENT
DTSTART;TZID=Europe/Berlin:20251116T190000
DTEND;TZID=Europe/Berlin:20251116T193000
DTSTAMP:20260419T193658
CREATED:20251004T054127Z
LAST-MODIFIED:20251004T054127Z
UID:1970-1763319600-1763321400@www.ovs48.de
SUMMARY:Sonntagsrunde mit Frank DM5KK
DESCRIPTION:Die Sonntagsrunde des OVS48 mit Frank DM5KK über unser Relais DB0ANA. Alle Interessenten sind herzlich eingeladen.
URL:https://www.ovs48.de/event/sonntagsrunde-mit-frank-dm5kk-59/
LOCATION:DB0ANA
END:VEVENT
BEGIN:VEVENT
DTSTART;TZID=Europe/Berlin:20251112T190000
DTEND;TZID=Europe/Berlin:20251112T200000
DTSTAMP:20260419T193658
CREATED:20241210T164909Z
LAST-MODIFIED:20241210T164909Z
UID:1763-1762974000-1762977600@www.ovs48.de
SUMMARY:Deutscher Amateur-Radio-Club OV-Abend
DESCRIPTION:Wieder im Huthaus Geyer und am Mittwoch.  Alle Interessenten sind herzlich eingeladen. Offizieller Beginn ist 19:00\, der Tisch ist ab 18:00 reserviert
URL:https://www.ovs48.de/event/deutscher-amateur-radio-club-ov-abend-34/
LOCATION:Gaststätte Huthaus Geyer\, Bingeweg 21\, Geyer\, 09468\, Deutschland
END:VEVENT
BEGIN:VEVENT
DTSTART;TZID=Europe/Berlin:20251109T190000
DTEND;TZID=Europe/Berlin:20251109T193000
DTSTAMP:20260419T193658
CREATED:20250907T182311Z
LAST-MODIFIED:20250907T182311Z
UID:1962-1762714800-1762716600@www.ovs48.de
SUMMARY:Sonntagsrunde mit Lukas DH2LM
DESCRIPTION:Die Sonntagsrunde des OVS48 mit Lukas DH2LM über unser Relais DB0ANA. Alle Interessenten sind herzlich eingeladen.
URL:https://www.ovs48.de/event/sonntagsrunde-mit-lukas-dh2lm-6/
LOCATION:DB0ANA
END:VEVENT
BEGIN:VEVENT
DTSTART;TZID=Europe/Berlin:20251102T190000
DTEND;TZID=Europe/Berlin:20251102T193000
DTSTAMP:20260419T193658
CREATED:20250907T182249Z
LAST-MODIFIED:20250907T182249Z
UID:1960-1762110000-1762111800@www.ovs48.de
SUMMARY:Sonntagsrunde mit Martin DH1DF
DESCRIPTION:Die Sonntagsrunde des OVS48 mit Martin DH1DF über unser Relais DB0ANA. Alle Interessenten sind herzlich eingeladen.
URL:https://www.ovs48.de/event/sonntagsrunde-mit-martin-dh1df-60/
LOCATION:DB0ANA
END:VEVENT
END:VCALENDAR